BEGIN:VCALENDAR
VERSION:2.0
PRODID:-//jEvents 2.0 for Joomla//EN
CALSCALE:GREGORIAN
METHOD:PUBLISH
BEGIN:VEVENT
UID:5112ba45073c7e8eb115866784436bae
CATEGORIES:Polar Conferences, Meetings and Events
CREATED:20200629T134937
SUMMARY:3rd Arctic Science Ministerial (ASM3)
LOCATION:Tokyo\, Japan
DESCRIPTION:3rd Arctic Science Ministerial\n Co-hosted by Iceland and Japan\n NEW DATE:
  08-09 May 2021\n Tokyo, Japan\n\n
X-ALT-DESC;FMTTYPE=text/html:<p><span lang="EN-US">3rd Arctic Science Ministerial<br /> Co-hosted by Ice
 land and Japan<br /> NEW DATE: 08-09 May 2021<br /> Tokyo, Japan<strong><br
  /></strong></span></p>
DTSTAMP:20260420T114544Z
DTSTART;TZID=UTC;VALUE=DATE:20210508
DTEND;TZID=UTC;VALUE=DATE:20210510
SEQUENCE:0
TRANSP:OPAQUE
END:VEVENT
END:VCALENDAR