BEGIN:VCALENDAR
VERSION:2.0
PRODID:-//jEvents 2.0 for Joomla//EN
CALSCALE:GREGORIAN
METHOD:PUBLISH
BEGIN:VEVENT
UID:6904e060801691b976aa8b2907de8ec1
CATEGORIES:APECS Events
CREATED:20200715T121725
SUMMARY:International Polar Week September 2020 
LOCATION:Online
DESCRIPTION:<p>The International Polar Week will be held from 20-26 September 2020, onl
 ine.</p><p>Further inforamtion can be found <a href="https://apecs.is/event
 s-archive/events-2020/international-polar-week-march-2020.html" target="_bl
 ank" rel="noopener">here</a>.</p>
DTSTAMP:20260419T205016Z
DTSTART;TZID=UTC;VALUE=DATE:20200920
DTEND;TZID=UTC;VALUE=DATE:20200927
SEQUENCE:0
TRANSP:OPAQUE
END:VEVENT
END:VCALENDAR