BEGIN:VCALENDAR
VERSION:2.0
PRODID:-//jEvents 2.0 for Joomla//EN
CALSCALE:GREGORIAN
METHOD:PUBLISH
BEGIN:VEVENT
UID:14a8db476dfb6b4dfe5e921cbe947fbe
CATEGORIES:Polar Conferences, Meetings and Events
CREATED:20200728T100834
SUMMARY:PalaeoArc 2021
LOCATION:Online
DESCRIPTION:2nd International online PalaeoArc Conference on ‘Processes and Palaeo-envi
 ronmental changes in the Arctic: from past to present’ from 25-28 May 2021T
 he conference will run for about four hours each day, from 14:00-18:15 CET 
 (http://palaeoarc2021.dst.unipi.it/index.php/timetable),\nwith a combinatio
 n of live talks and discussions and potentially pre-recorded content releva
 nt to the daily themes.\n\nWe welcome contributions on the overall theme of
  the network research programme <a href="http://www.palaeoarc.no/">PalaeoAr
 c</a> that \naims to understand past and present environmental changes and 
 processes in the Arctic.\n\n\nIn particular, we invite oral and poster cont
 ributions on four themes divided in four thematic days:\n- 25 May 2021: Rol
 e and dynamics of Arctic ice sheets and ice caps;\n- 26 May 2021: Role and 
 dynamics of high latitude ocean and sea ice;\n- 27 May 2021: Role and dynam
 ics of terrestrial environment and landscape evolution;\n- 28 May 2021: Cli
 mate response to, and interaction between, different parts of the Arctic Sy
 stem.\n\nImportant dates:\nAbstract deadline: 15 March 2021\nRegistration d
 eadline: 15 April 2021\n\n\nThe Program Committee will select the winner fo
 r the Best Student Talk and Best Student Poster award.\nTo be eligible, the
  presenting author of the poster must be a full-time student.\n- 24 May 202
 1: a workshop on arctic foraminifera is offered for young researchers.\n\nA
  special volume of Arctic Alpine and Antarctic Research (AAAR) is planned i
 n conjunction with the PaleoArc2021 conference.\nThe special issue in AAAR 
 ( (https://www.tandfonline.com/toc/uaar20/current)<a href="https://www.tand
 fonline.com/toc/uaar20/current">https://www.tandfonline.com/toc/uaar20/curr
 ent</a>) will be advertised with the conference.\nOn the registration sheet
  applicants will be asked if they plan on contributing to this collection o
 f papers.\n\nThe online conference is free.\nFor more details on the confer
 ence visit the 2nd PalaeoArc conference web-page,  (http://palaeoarc2021.ds
 t.unipi.it/)<a href="http://palaeoarc2021.dst.unipi.it">http://palaeoarc202
 1.dst.unipi.it</a>\n\nWe are looking forward to see you \nWith best regards
  on behalf of the organising committee\n
X-ALT-DESC;FMTTYPE=text/html:<h4><strong>2nd International online PalaeoArc Conference on ‘Processes and
  Palaeo-environmental changes in the Arctic: from past to present’ from 25-
 28 May 2021</strong></h4><p>The conference will run for about four hours&nb
 sp;each day,&nbsp;<a href="http://palaeoarc2021.dst.unipi.it/index.php/time
 table">from 14:00-18:15 CET</a>,</p><p>with a&nbsp;combination of live talk
 s and discussions and potentially pre-recorded content relevant to the dail
 y themes.</p><p><br />We welcome contributions on the overall theme of the 
 network research programme&nbsp;<a href="http://www.palaeoarc.no/">PalaeoAr
 c</a>&nbsp;that&nbsp;</p><p>aims to understand past and present environment
 al changes and processes in the Arctic.<br /><br /></p><p>In particular, we
  invite oral and poster contributions on four themes divided in four themat
 ic days:</p><p>- 25 May 2021: Role and dynamics of Arctic ice sheets and ic
 e caps;</p><p>- 26 May 2021: Role and dynamics of high latitude ocean and s
 ea ice;</p><p>- 27 May 2021: Role and dynamics of terrestrial environment a
 nd landscape evolution;</p><p>- 28 May 2021: Climate response to, and inter
 action between, different parts of the Arctic System.</p><p><strong><br />I
 mportant dates:</strong></p><p><strong><em>Abstract deadline: 15 March 2021
 </em></strong></p><p><strong><em>Registration deadline: 15 April 2021<br />
 <br /></em></strong></p><p>The Program Committee will select the winner for
  the&nbsp;<strong>Best Student Talk and Best Student Poster award</strong>.
 </p><p>To be eligible, the presenting author of the poster must be a full-t
 ime student.</p><p>- 24 May 2021:&nbsp;a&nbsp;workshop&nbsp;on arctic foram
 inifera is offered for young researchers.</p><p><strong><br />A special vol
 ume of&nbsp;<em>Arctic Alpine and Antarctic Research</em></strong><em>&nbsp
 ;(AAAR)&nbsp;</em>is planned in conjunction with the PaleoArc2021 conferenc
 e.</p><p>The special issue in AAAR (<a href="https://www.tandfonline.com/to
 c/uaar20/current"></a><a href="https://www.tandfonline.com/toc/uaar20/curre
 nt">https://www.tandfonline.com/toc/uaar20/current</a>) will be advertised 
 with the conference.</p><p>On the registration sheet applicants will be ask
 ed if they plan on contributing to this collection of papers.</p><p><strong
 ><br />The online conference is free.</strong></p><p>For more details on th
 e conference visit the&nbsp;<strong>2<sup>nd</sup>&nbsp;PalaeoArc</strong>&
 nbsp;conference web-page,&nbsp;<a href="http://palaeoarc2021.dst.unipi.it/"
 ></a><a href="http://palaeoarc2021.dst.unipi.it">http://palaeoarc2021.dst.u
 nipi.it</a></p><p><br />We are looking forward to see you&nbsp;</p><p>With 
 best regards on behalf of the organising committee</p>
DTSTAMP:20260419T224622Z
DTSTART;TZID=UTC;VALUE=DATE:20210525
DTEND;TZID=UTC;VALUE=DATE:20210529
SEQUENCE:0
TRANSP:OPAQUE
END:VEVENT
END:VCALENDAR