BEGIN:VCALENDAR
VERSION:2.0
PRODID:-//jEvents 2.0 for Joomla//EN
CALSCALE:GREGORIAN
METHOD:PUBLISH
BEGIN:VEVENT
UID:81900809f77a207bb35b17c3bf779613
CATEGORIES:Polar Conferences, Meetings and Events
CREATED:20200807T144423
SUMMARY:BEPSII/ECVice 2020 meeting online
DESCRIPTION:The BEPSII Annual Meeting will be held online during the week of 24 - 28 Au
 gust 2020 and will include various discussions and poster sessions. The mee
 ting will also include an event for Early Career Researchers on the 21st Au
 gust. BEPSII is an open network for international knowledge exchange relate
 d to Biogeochemcial Exchanges Processe at sea ice Interface. BEPSII aims to
  quantify the role of sea ice in polar ecosystem services – from biodiversi
 ty impacts to climate change – and communicate these globally-relevant issu
 es.\nJoint BEPSII and ECVice annual meeting is one of the main forum to dis
 cuss science highlights but also ongoing and future activities related to s
 ea ice biogeochemistry.  The meeting, originally planned to be held in Hoba
 rt, will be hold online, due to the COVID-19 pandemic. We are inviting our 
 community to engage in new ways. We hope that BEPSII/ECVice 2020 online wil
 l be an important space for discussion for sea ice biogeochemistry communit
 y, and to keep momentum in our research, at a time of social distancing. BE
 PSII/ECVice 2020 will also be devoted to gather BEPSII, ECVice and CATCH co
 mmunities.\n \n Date: 24-28 August 2020. Planning include one all timezone 
 overlapping session per day as well as "round-the-world" discussion session
 s (moving along timezones) and an online poster session.\n \n BEPSII/ECVice
  meeting will be preceded by an Early Carrier Scientist meeting on the 21-0
 7-2020\n \n In additions to task group updates for BEPSII and ECVice, round
 -the-world discussion will address:\n 1. Developing a position analysis for
  the Antarctic\n 2. Joint BEPSII-CATCH cruise discussion\n 3. Developing a 
 joined CATCH -BEPSII SCOR working group\nDetails about the program can be e
 xpected soon on the BEPSII website (https://sites.google.com/site/bepsiiwg1
 40/news/online-joint-bepsiiecvice-meeting-2020), registration is free and o
 pen to everybody and can be done online <a href="https://docs.google.com/fo
 rms/d/e/1FAIpQLSebQA-keV2CBUBU4sFEfffzZKw7HRlCtvHW9QSnmOuLSy_KOg/viewform">
 here</a>.\n
X-ALT-DESC;FMTTYPE=text/html:<p>The BEPSII Annual Meeting will be held online during the week of 24 - 28
  August 2020 and will include various discussions and poster sessions. The 
 meeting will also include an event for Early Career Researchers on the 21st
  August. BEPSII is an open network for international knowledge exchange rel
 ated to Biogeochemcial Exchanges Processe at sea ice Interface. BEPSII aims
  to quantify the role of sea ice in polar ecosystem services – from biodive
 rsity impacts to climate change – and communicate these globally-relevant i
 ssues.</p><p>Joint BEPSII and ECVice annual meeting is one of the main foru
 m to discuss science highlights but also ongoing and future activities rela
 ted to sea ice biogeochemistry.&nbsp; The meeting, originally planned to be
  held in Hobart, will be hold online, due to the COVID-19 pandemic. We are 
 inviting our community to engage in new ways. We hope that BEPSII/ECVice 20
 20 online will be an important space for discussion for sea ice biogeochemi
 stry community, and to keep momentum in our research, at a time of social d
 istancing. BEPSII/ECVice 2020 will also be devoted to gather BEPSII, ECVice
  and CATCH communities.<br /> <br /> Date: 24-28 August 2020. Planning incl
 ude one all timezone overlapping session per day as well as "round-the-worl
 d" discussion sessions (moving along timezones) and an online poster sessio
 n.<br /> <br /> BEPSII/ECVice meeting will be preceded by an Early Carrier 
 Scientist meeting on the 21-07-2020<br /> <br /> In additions to task group
  updates for BEPSII and ECVice, round-the-world discussion will address:<br
  /> 1. Developing a position analysis for the Antarctic<br /> 2. Joint BEPS
 II-CATCH cruise discussion<br /> 3. Developing a joined CATCH -BEPSII SCOR 
 working group</p><p>Details about the program can be expected soon on the <
 a href="https://sites.google.com/site/bepsiiwg140/news/online-joint-bepsiie
 cvice-meeting-2020">BEPSII website</a>, registration is free and open to ev
 erybody and can be done online <a href="https://docs.google.com/forms/d/e/1
 FAIpQLSebQA-keV2CBUBU4sFEfffzZKw7HRlCtvHW9QSnmOuLSy_KOg/viewform">here</a>.
 </p>
DTSTAMP:20260419T185237Z
DTSTART;TZID=UTC:20200824T080000
DTEND;TZID=UTC:20200828T170000
SEQUENCE:0
TRANSP:OPAQUE
END:VEVENT
END:VCALENDAR