BEGIN:VCALENDAR
VERSION:2.0
PRODID:-//jEvents 2.0 for Joomla//EN
CALSCALE:GREGORIAN
METHOD:PUBLISH
BEGIN:VEVENT
UID:f919d72ea91cffee9dd4ced2979b2b2a
CATEGORIES:Polar Conferences, Meetings and Events
CREATED:20200807T144959
SUMMARY:IGS Global Seminar Series
LOCATION:Online
DESCRIPTION:IGS Global Seminar Series\nWednesday Aug 26th  (+1 in NZ / Australia / Japa
 n)\nHeather Purdie, Canterbury University, NZ,\n"Morphological changes to t
 he terminus of a maritime glacier during advance and retreat phases: Fox Gl
 acier/Te Moeka o Tūawe, New Zealand"\n \nPlease check your link beforehand 
 and drop me an email if you can’t see the waiting room – I’ve just created 
 a whole load of new seminar slots on zoom. If you have any issues getting o
 nto the seminar link please email me and I will trigger zoom to send you yo
 ur link again.\nAnd please feel free to volunteer to give a future seminar 
 – just drop me an email: don’t be shy – both full length and shorter slots 
 are available late November / December and beyond…! For short slots – conta
 ct Rebecca Schlegel ( (mailto:967901@Swansea.ac.uk)This email address is be
 ing protected from spambots. You need JavaScript enabled to view it.
				do
 cument.getElementById('cloak064d3d2bcadfa987e9241c351da817ff').innerHTML = 
 '';
				var prefix = '&#109;a' + 'i&#108;' + '&#116;o';
				var path = 'hr'
  + 'ef' + '=';
				var addy064d3d2bcadfa987e9241c351da817ff = '967901' + '&
 #64;';
				addy064d3d2bcadfa987e9241c351da817ff = addy064d3d2bcadfa987e9241
 c351da817ff + 'Sw&#97;ns&#101;&#97;' + '&#46;' + '&#97;c' + '&#46;' + '&#11
 7;k';
				var addy_text064d3d2bcadfa987e9241c351da817ff = '967901' + '&#64;
 ' + 'Sw&#97;ns&#101;&#97;' + '&#46;' + '&#97;c' + '&#46;' + '&#117;k';docum
 ent.getElementById('cloak064d3d2bcadfa987e9241c351da817ff').innerHTML += '<
 a ' + path + '\'' + prefix + ':' + addy064d3d2bcadfa987e9241c351da817ff + '
 \'>'+addy_text064d3d2bcadfa987e9241c351da817ff+'';
		) who is co-ordinating
  those. We’d especially like to encourage speakers to volunteer or be sugge
 sted from communities that have so far been under-represented in the series
 . ?\nPlease register in advance for the seminars. Any issues drop me an ema
 il and I'll try and help. There's a short question to answer - please tell 
 me enough to accept you! I'll be doing that manually, so just be kind and m
 ake it obvious... (I'm a PhD student with X... or whatever). Using your wor
 k email would make my life really easy.\n<a href="https://l.facebook.com/l.
 php?u=https%3A%2F%2Fswanseauniversity.zoom.us%2Fmeeting%2Fregister%2FtJUqfu
 irrzouG9C5Dj7FfLjpsy3cINaVRWK6%3Ffbclid%3DIwAR3qD9vLygyHnp0WT5EGTCF_q5-Sbbx
 XY97UL4JwY04JbZzzj5VApXztqYU&amp;h=AT0iD9T5Aug1-EbQJOzRWNGg7knOwJAxcNkMJVeg
 shOnwy6W7VW2CKt4n8XCZPGbTrOk543v45ubCzeFLsToxx1N4XR8vD93o32CZNkZx8Za-vwbNdt
 jz4CXzJ2V9VAa&amp;__tn__=-UK-R&amp;c%5b0%5d=AT193gn03CbWlXr8eb5_pHgN74R3c7H
 -jxQgHT7JTYBEo7KPFDl8nkusDJaT8ZFERSkAVn_q0by64o2y-iHSCo8djxKjufvTIBPbekG2r-
 NBb3JGlNZPkz4z9qGZogUZdpLy2S1PuzTOoH12QWnOQBFLlLJkZHjRTuy36tmyMqrg7nrxgUL8X
 2q_"></a>\nAfter registering, you will receive a confirmation email contain
 ing information about joining the seminar.\nSeminar times:\n---------------
 -----\nLondon - 9pm\nEurope - 10pm\nEast Coast US - 4pm\nWest Coast US - 1p
 m\nDelhi (+1) - 1.30am (sorry!)\nTokyo (+1) - 5am\nAustralia (+1) - 6am\nNe
 w Zealand (+1) - 8am\nThe seminar will also be available afterwards on the 
 Friends of the International Glaciological Society Facebook page so that yo
 u can watch it there if technology fails or you can't make it! We are inves
 tigating other platforms for those in countries where Facebook can’t be use
 d.\n
X-ALT-DESC;FMTTYPE=text/html:<p><strong>IGS Global Seminar Series</strong></p><p>Wednesday Aug 26th&nbsp
 ;&nbsp;(+1 in NZ / Australia / Japan)</p><p><strong>Heather Purdie</strong>
 , Canterbury University, NZ,</p><p>"Morphological changes to the terminus o
 f a maritime glacier during advance and retreat phases: Fox Glacier/Te Moek
 a o Tūawe, New Zealand"</p><p><strong><em>&nbsp;</em></strong></p><p><stron
 g><em>Please check your link beforehand and drop me an email if you can’t s
 ee the waiting room – I’ve just created a whole load of new seminar slots o
 n zoom.&nbsp;</em></strong>If you have any issues getting onto the seminar 
 link please email me and I will trigger zoom to send you your link again.</
 p><p>And please feel free to volunteer to give a future seminar – just drop
  me an email: don’t be shy – both full length and shorter slots are availab
 le late November / December and beyond…! For short slots – contact Rebecca 
 Schlegel (<a href="mailto:967901@Swansea.ac.uk"></a><span id="cloak064d3d2b
 cadfa987e9241c351da817ff">This email address is being protected from spambo
 ts. You need JavaScript enabled to view it.</span><script type='text/javasc
 ript'>
				document.getElementById('cloak064d3d2bcadfa987e9241c351da817ff')
 .innerHTML = '';
				var prefix = '&#109;a' + 'i&#108;' + '&#116;o';
				va
 r path = 'hr' + 'ef' + '=';
				var addy064d3d2bcadfa987e9241c351da817ff = 
 '967901' + '&#64;';
				addy064d3d2bcadfa987e9241c351da817ff = addy064d3d2b
 cadfa987e9241c351da817ff + 'Sw&#97;ns&#101;&#97;' + '&#46;' + '&#97;c' + '&
 #46;' + '&#117;k';
				var addy_text064d3d2bcadfa987e9241c351da817ff = '967
 901' + '&#64;' + 'Sw&#97;ns&#101;&#97;' + '&#46;' + '&#97;c' + '&#46;' + '&
 #117;k';document.getElementById('cloak064d3d2bcadfa987e9241c351da817ff').in
 nerHTML += '<a ' + path + '\'' + prefix + ':' + addy064d3d2bcadfa987e9241c3
 51da817ff + '\'>'+addy_text064d3d2bcadfa987e9241c351da817ff+'<\/a>';
		</sc
 ript>) who is co-ordinating those. We’d especially like to encourage speake
 rs to volunteer or be suggested from communities that have so far been unde
 r-represented in the series.&nbsp;?</p><p>Please register in advance for th
 e seminars. Any issues drop me an email and I'll try and help. There's a sh
 ort question to answer - please tell me enough to accept you! I'll be doing
  that manually, so just be kind and make it obvious... (I'm a PhD student w
 ith X... or whatever). Using your work email would make my life really easy
 .</p><p><a href="https://l.facebook.com/l.php?u=https%3A%2F%2Fswanseauniver
 sity.zoom.us%2Fmeeting%2Fregister%2FtJUqfuirrzouG9C5Dj7FfLjpsy3cINaVRWK6%3F
 fbclid%3DIwAR3qD9vLygyHnp0WT5EGTCF_q5-SbbxXY97UL4JwY04JbZzzj5VApXztqYU&amp;
 h=AT0iD9T5Aug1-EbQJOzRWNGg7knOwJAxcNkMJVegshOnwy6W7VW2CKt4n8XCZPGbTrOk543v4
 5ubCzeFLsToxx1N4XR8vD93o32CZNkZx8Za-vwbNdtjz4CXzJ2V9VAa&amp;__tn__=-UK-R&am
 p;c%5b0%5d=AT193gn03CbWlXr8eb5_pHgN74R3c7H-jxQgHT7JTYBEo7KPFDl8nkusDJaT8ZFE
 RSkAVn_q0by64o2y-iHSCo8djxKjufvTIBPbekG2r-NBb3JGlNZPkz4z9qGZogUZdpLy2S1PuzT
 OoH12QWnOQBFLlLJkZHjRTuy36tmyMqrg7nrxgUL8X2q_"></a><a href="https://l.faceb
 ook.com/l.php?u=https%3A%2F%2Fswanseauniversity.zoom.us%2Fmeeting%2Fregiste
 r%2FtJUqfuirrzouG9C5Dj7FfLjpsy3cINaVRWK6%3Ffbclid%3DIwAR3qD9vLygyHnp0WT5EGT
 CF_q5-SbbxXY97UL4JwY04JbZzzj5VApXztqYU&amp;h=AT0iD9T5Aug1-EbQJOzRWNGg7knOwJ
 AxcNkMJVegshOnwy6W7VW2CKt4n8XCZPGbTrOk543v45ubCzeFLsToxx1N4XR8vD93o32CZNkZx
 8Za-vwbNdtjz4CXzJ2V9VAa&amp;__tn__=-UK-R&amp;c%5b0%5d=AT193gn03CbWlXr8eb5_p
 HgN74R3c7H-jxQgHT7JTYBEo7KPFDl8nkusDJaT8ZFERSkAVn_q0by64o2y-iHSCo8djxKjufvT
 IBPbekG2r-https://swanseauniversity.zoom.us/meeting/register/tJUqfuirrzouG9
 C5Dj7FfLjpsy3cINaVRWK6?fbclid=IwAR3qD9vLygyHnp0WT5EGTCF_q5-SbbxXY97UL4JwY04
 JbZzzj5VApXztqYU" target="_blank" rel="noopener">https://swanseauniversity.
 zoom.us/meeting/register/tJUqfuirrzouG9C5Dj7FfLjpsy3cINaVRWK6?fbclid=IwAR3q
 D9vLygyHnp0WT5EGTCF_q5-SbbxXY97UL4JwY04JbZzzj5VApXztqYU</a></p><p>After reg
 istering, you will receive a confirmation email containing information abou
 t joining the seminar.</p><p>Seminar times:</p><p>--------------------</p><
 p>London - 9pm</p><p>Europe - 10pm</p><p>East Coast US - 4pm</p><p>West Coa
 st US - 1pm</p><p>Delhi (+1) - 1.30am (sorry!)</p><p>Tokyo (+1) - 5am</p><p
 >Australia (+1) - 6am</p><p>New Zealand (+1) - 8am</p><p>The seminar will a
 lso be available afterwards on the Friends of the International Glaciologic
 al Society Facebook page so that you can watch it there if technology fails
  or you can't make it! We are investigating other platforms for those in co
 untries where Facebook can’t be used.</p>
DTSTAMP:20260419T224421Z
DTSTART;TZID=UTC;VALUE=DATE:20200826
DTEND;TZID=UTC;VALUE=DATE:20200827
SEQUENCE:0
TRANSP:OPAQUE
END:VEVENT
END:VCALENDAR