BEGIN:VCALENDAR
VERSION:2.0
PRODID:-//jEvents 2.0 for Joomla//EN
CALSCALE:GREGORIAN
METHOD:PUBLISH
BEGIN:VEVENT
UID:abcd6dd80be4efa9c838ebf811e703f4
CATEGORIES:Polar Conferences, Meetings and Events
CREATED:20200817T133926
SUMMARY:Webinar: Whale Acoustics Webinar from the Gulf of Alaska
DESCRIPTION:The Migration in Harmony Research Coordination Network (MiH-RCN)  (https://
 mailchi.mp/georgetown/migrationinharmony)announces a Whale Acoustics Webina
 r from the Gulf of Alaska. This webinar will take place on 18 August 2020 f
 rom 10:00 to 11:30 a.m. AKDT.\nThere is no fee for this event, however regi
 stration is required.\nWebinar Description:\n Presented by students from th
 e Mt. Edgecumbe High School in Sitka, Alaska, this webinar will highlight t
 heir important contributions to marine mammal research through the internsh
 ip and technology training program SeaTech. Researchers from NOAA Fisheries
  and the Scripps Institution of Oceanography, as well as staff and alumni o
 f Mt. Edgecumbe, will also be presenting. This webinar will focus on the Ar
 ctic, marine mammals, acoustics, and exploring collaborative approaches to 
 science-based education and outreach.\nFor more information and to register
  for the webinar, go to: <a href="https://www.eventbrite.com/e/whale-acoust
 ics-webinar-from-the-gulf-of-alaska-tickets-113499307484?fbclid=IwAR0ALwA2L
 O9AseT-vlR9bYQ89O3uQ1zXfV07BQq3QsfPnVgdlwxb0tCsl7E">Webinar webpage</a>\n
X-ALT-DESC;FMTTYPE=text/html:<p>The <a href="https://mailchi.mp/georgetown/migrationinharmony">Migration
  in Harmony Research Coordination Network (MiH-RCN) </a>announces a Whale A
 coustics Webinar from the Gulf of Alaska. This webinar will take place on 1
 8 August 2020 from 10:00 to 11:30 a.m. AKDT.</p><p>There is no fee for this
  event, however registration is required.</p><p><strong>Webinar Description
 :</strong><br /> Presented by students from the Mt. Edgecumbe High School i
 n Sitka, Alaska, this webinar will highlight their important contributions 
 to marine mammal research through the internship and technology training pr
 ogram SeaTech. Researchers from NOAA Fisheries and the Scripps Institution 
 of Oceanography, as well as staff and alumni of Mt. Edgecumbe, will also be
  presenting. This webinar will focus on the Arctic, marine mammals, acousti
 cs, and exploring collaborative approaches to science-based education and o
 utreach.</p><p>For more information and to register for the webinar, go to:
  <a href="https://www.eventbrite.com/e/whale-acoustics-webinar-from-the-gul
 f-of-alaska-tickets-113499307484?fbclid=IwAR0ALwA2LO9AseT-vlR9bYQ89O3uQ1zXf
 V07BQq3QsfPnVgdlwxb0tCsl7E">Webinar webpage</a></p>
DTSTAMP:20260419T190924Z
DTSTART;TZID=UTC:20200818T080000
DTEND;TZID=UTC:20200818T170000
SEQUENCE:0
TRANSP:OPAQUE
END:VEVENT
END:VCALENDAR