BEGIN:VCALENDAR
VERSION:2.0
PRODID:-//jEvents 2.0 for Joomla//EN
CALSCALE:GREGORIAN
METHOD:PUBLISH
BEGIN:VEVENT
UID:fb2c685cac238cf9d1df9dbc9cc601e6
CATEGORIES:Polar Conferences, Meetings and Events
CREATED:20200825T115320
SUMMARY:Webinar: NSF Support for Collaborations Between Arctic Researchers & Residents
LOCATION:Online
DESCRIPTION:<div>On <strong>Sept 1, 3:30pm ET / 11:30am AKT</strong>, join the National
  Science Foundation for a program manager chat about the&nbsp;<a href="http
 s://www.iarpccollaborations.org/news/18461">recent Dear Colleague Letter</a
 >&nbsp;announcing potential support for community collaborations between&nb
 sp;<abbr class="gmail-acronym-popup">NSF</abbr>-funded Arctic researchers a
 nd residents.</div><div>&nbsp;</div><div>Through this Dear Colleague Letter
 ,&nbsp;<abbr class="gmail-acronym-popup">NSF</abbr>'s&nbsp;<a href="https:/
 /www.nsf.gov/geo/opp/arctic/index.jsp">Arctic Sciences Section (ARC)</a>&nb
 sp;in the Office of Polar Programs is encouraging submissions of proposals 
 for projects that will enrich interactions and improve collaboration betwee
 n Arctic residents and&nbsp;<abbr class="gmail-acronym-popup"><abbr class="
 gmail-acronym-popup"><abbr class="gmail-acronym-popup">NSF</abbr></abbr></a
 bbr>-funded researchers.&nbsp;Through increasing investment in Arctic resea
 rch in recent years,&nbsp;<abbr class="gmail-acronym-popup"><abbr class="gm
 ail-acronym-popup"><abbr class="gmail-acronym-popup">NSF</abbr></abbr></abb
 r>&nbsp;has created greater opportunities for researchers to work in the Ar
 ctic, to build strong partnerships with Arctic residents, and to create pro
 jects in collaboration with northern communities. The Arctic Sciences Secti
 on wishes to support the development of additional research capacity of Arc
 tic residents and local and regional organizations to strengthen communicat
 ion and to enhance partnerships with the academic community that&nbsp;<abbr
  class="gmail-acronym-popup"><abbr class="gmail-acronym-popup"><abbr class=
 "gmail-acronym-popup">NSF</abbr></abbr></abbr>&nbsp;typically supports.</di
 v><div>&nbsp;</div><div>All are welcome to attend this webinar. Get more in
 formation&nbsp;<a href="https://www.iarpccollaborations.org/events/18531">o
 n the IARPC Collaborations website</a>, and&nbsp;<a href="https://iarpc.zoo
 m.us/meeting/register/tZIvcuigrjgqE9QU-QDZ37L8zqpjjfkIXO0p">register here</
 a>.</div>
DTSTAMP:20260420T000949Z
DTSTART;TZID=UTC;VALUE=DATE:20200901
DTEND;TZID=UTC;VALUE=DATE:20200902
SEQUENCE:0
TRANSP:OPAQUE
END:VEVENT
END:VCALENDAR