BEGIN:VCALENDAR
VERSION:2.0
PRODID:-//jEvents 2.0 for Joomla//EN
CALSCALE:GREGORIAN
METHOD:PUBLISH
BEGIN:VEVENT
UID:7af08874bdcc49b3fcaf0200a25b0585
CATEGORIES:Polar Conferences, Meetings and Events
CREATED:20200825T121642
SUMMARY:Geo.X: Online Workshop Introduction to Data Publication in the Earth Sciences 
LOCATION:Online
DESCRIPTION:<p>Geo.X. is happy to offer an online workshop on the Introduction into dat
 a publication by Andreas Hübner from FID Geo.</p><p>Data publications becom
 e more and more important in the light of reproducible science and will be 
 crucial for the future of data focused research.</p><p>The workshop takes p
 lace&nbsp;</p><p><strong>Friday 18<sup>th</sup>&nbsp;September,&nbsp;</stro
 ng></p><p>From<strong>&nbsp;10 – 11:30 am</strong></p><p>Via zoom: <a href=
 "https://zoom.us/j/98203196178?pwd=NnhhMTNpdkJZaktVc2NCSFlDZkkwdz09">https:
 //zoom.us/j/98203196178?pwd=NnhhMTNpdkJZaktVc2NCSFlDZkkwdz09</a></p><p>Meet
 ing-ID: 982 0319 6178</p><p><strong>Kenncode: 375460</strong></p><p>Event d
 etails:</p><p><a href="https://www.geo-x.net/news/news-overview/details/new
 s/online-workshop-introduction-to-data-publication-in-the-earth-sciences/">
 https://www.geo-x.net/news/news-overview/details/news/online-workshop-intro
 duction-to-data-publication-in-the-earth-sciences/</a></p><p>If you have an
 y questions feel free to contact me, or the ECS core team via&nbsp;<a href=
 "mailto:early-careers@geo-x.net"></a><span id="cloak8a53cc4f6bc80a089cd5bc3
 5a12891a3">This email address is being protected from spambots. You need Ja
 vaScript enabled to view it.</span><script type='text/javascript'>
				docu
 ment.getElementById('cloak8a53cc4f6bc80a089cd5bc35a12891a3').innerHTML = ''
 ;
				var prefix = '&#109;a' + 'i&#108;' + '&#116;o';
				var path = 'hr' +
  'ef' + '=';
				var addy8a53cc4f6bc80a089cd5bc35a12891a3 = '&#101;&#97;rly
 -c&#97;r&#101;&#101;rs' + '&#64;';
				addy8a53cc4f6bc80a089cd5bc35a12891a3
  = addy8a53cc4f6bc80a089cd5bc35a12891a3 + 'g&#101;&#111;-x' + '&#46;' + 'n&
 #101;t';
				var addy_text8a53cc4f6bc80a089cd5bc35a12891a3 = '&#101;&#97;rl
 y-c&#97;r&#101;&#101;rs' + '&#64;' + 'g&#101;&#111;-x' + '&#46;' + 'n&#101;
 t';document.getElementById('cloak8a53cc4f6bc80a089cd5bc35a12891a3').innerHT
 ML += '<a ' + path + '\'' + prefix + ':' + addy8a53cc4f6bc80a089cd5bc35a128
 91a3 + '\'>'+addy_text8a53cc4f6bc80a089cd5bc35a12891a3+'<\/a>';
		</script>
 </p>
DTSTAMP:20260419T201929Z
DTSTART;TZID=UTC:20200918T100000
DTEND;TZID=UTC:20200918T113000
SEQUENCE:0
TRANSP:OPAQUE
END:VEVENT
END:VCALENDAR