BEGIN:VCALENDAR
VERSION:2.0
PRODID:-//jEvents 2.0 for Joomla//EN
CALSCALE:GREGORIAN
METHOD:PUBLISH
BEGIN:VEVENT
UID:e947fbad13cc6888ebb4642c3d75fb7c
CATEGORIES:Polar Conferences, Meetings and Events
CREATED:20200825T123219
SUMMARY:ACCAP Webinar: Deconstructing Surface Water in Permafrost Regions
LOCATION:Online
DESCRIPTION:<div dir="ltr"><div dir="ltr"><div dir="ltr"><div dir="ltr"><div dir="ltr">
 <div dir="ltr"><div dir="ltr"><div dir="ltr"><div dir="ltr"><div dir="ltr">
 <div dir="ltr"><div><div><div dir="ltr"><div dir="ltr"><div><strong>Wednesd
 ay, August 26 (11am ADT)</strong></div><div>VAWS: Deconstructing Surface Wa
 ter in Permafrost Regions</div><div>(<a href="https://uaf-accap.org/event/v
 aws-august2020/">https://uaf-accap.org/event/vaws-august2020/</a>)</div></d
 iv></div></div></div></div></div></div></div></div></div></div></div></div>
 </div></div><p><em>Erin Trochim, University of Alaska Fairbanks&nbsp;<br />
 </em></p><blockquote><div><div><div>Satellite records from the mid 1980s on
 ward provide the opportunity to examine surface water distribution and chan
 ge in permafrost regions. This is important because the nature of permafros
 t can create conditions where change is likely to occur but hydrology condi
 tions can be highly variable. We will discuss how to account for these cond
 itions and produce summaries which can be easily understood and updated.<br
  />&nbsp;</div></div></div><div><div><div><div>More information and registr
 ation below</div><div>(<a href="https://uaf-accap.org/event/vaws-august2020
 /">https://uaf-accap.org/event/vaws-august2020/</a>)</div></div></div></div
 ></blockquote>
DTSTAMP:20260419T224935Z
DTSTART;TZID=UTC:20200826T110000
SEQUENCE:0
TRANSP:OPAQUE
END:VEVENT
END:VCALENDAR