BEGIN:VCALENDAR
VERSION:2.0
PRODID:-//jEvents 2.0 for Joomla//EN
CALSCALE:GREGORIAN
METHOD:PUBLISH
BEGIN:VEVENT
UID:8ba982775ea61f3dfcd06e06e37b9987
CATEGORIES:Polar Conferences, Meetings and Events
CREATED:20200908T063945
SUMMARY:Webinar: Bridging Arts and Science
LOCATION:Online
DESCRIPTION:Bridging Arts and Science\nArctic Research Seminar Series\nArctic Research 
 Consortium of the U.S.\nDate/time: Monday, 21 September 2020, 8:00 a.m. AKD
 T (12:00 p.m. EDT)\nTitle: Bridging Arts and Science\nPresenters: Matthew B
 urtner (University of Virginia), Leena Cho (University of Virginia), and Ga
 brielle Russomagno (School of Visual Arts)\n \nThe Arctic Research Consorti
 um of the U.S. () invites registration for the next Arctic Research Seminar
 . This seminar, titled Bridging Arts and Science, will take place Monday, 2
 1 September 2020 at 8:00 a.m. AKDT (12:00 p.m. EDT).\nThis seminar will be 
 presented by Matthew Burtner (University of Virginia), Leena Cho (Universit
 y of Virginia), and Gabrielle Russomagno (School of Visual Arts). During th
 is webinar presenters will discuss how their work spans science and the art
 s through media such as music, landscape architecture, and the visual arts.
 \n<a href="https://www.arcus.org/civicrm/mailing/url?u=25219&amp;qid=431178
 1" rel="nofollow">Matthew Burtner</a> is an Alaskan-born composer, eco-acou
 stician, and sound artist. He is the Eleanor Shea Chaired Professor of Musi
 c at the University of Virginia where he Co-Directs the . He also Directs t
 he non-profit organization EcoSono. A 2020 Emmy Award recipient, his ecoaco
 ustic music has been featured by NASA, the BBC, the Obama U.S. State Depart
 ment, NPR NewsHour, the Humanities Center at the University of Michigan, th
 e American Geophysical Union (AGU), and in concerts and exhibitions around 
 the world.\nMatthew will share how he uses sound as a medium between music 
 and science in Arctic coastal ecosystems. Ecoacoustic music utilizes sonifi
 cation, field recording, and environmental materials to imbed natural syste
 ms into music. He will discuss the methodology and show examples of these t
 echniques in his work.\n<a href="https://www.arcus.org/civicrm/mailing/url?
 u=25222&amp;qid=4311781" rel="nofollow">Leena Cho</a> is an Assistant Profe
 ssor in Landscape Architecture and Co-Director of Arctic Design Group at th
 e University of Virginia School of Architecture. Her research examines the 
 design of Arctic landscapes and cities, including emerging forms of landsca
 pe and landscape-making in the era of new climatic regimes. In particular, 
 her work positions the uniquely dynamic Arctic landscape material systems a
 s a critical foundation for vibrant socioecological and design expressions,
  while paying close attention to material meanings and design methods devel
 oped in specific historical contexts in the Arctic.\nBy merging the study o
 f environmental humanities, and science and technology studies with landsca
 pe architecture, Leena highlights the Arctic ground’s vibrant materialities
  as a conceptual and physical basis for design, while delineating potential
  areas of landscape design research and collaboration to further examine de
 sign potentials unique to the Arctic’s built environment. Permafrost ground
  is one of the defining landscape elements in the Arctic, and is a foundati
 on for dynamic socioecological and cultural expressions in Arctic cities.\n
  received her Master of Fine Arts in photography from Yale University. She 
 is a photographer and installation artist based in Philadelphia and New Yor
 k. Exhibiting internationally since 1985 her artwork is included in many pe
 rmanent collections including University of Pennsylvania Hospital, Smith Co
 llege, University of New Mexico Museum of Art, Yale University Beinecke Lib
 rary, the Bibliotheque Nationale in Paris, and the Museum of Modern Art in 
 New York. She is on the Bachelor of Fine Arts Photography faculty at the Sc
 hool of Visual Arts in New York.\nGabrielle will discuss A Quick and Tragic
  Thaw, a series of artworks that explores the impact of a warming world usi
 ng the Arctic region as the symbolic apex. Through the study of scholarly r
 esearch and data, use of mapping technology, and satellite imagery, as well
  as essays, poems, photographs, and illustrations, these artworks interpret
  the more recent story of human influenced climate change. More broadly, th
 is urgent narration recognizes migration movements of biological forms, tox
 ins, and water and is meant to be a meditation on loss and the fragility of
  the planet.\nFor more information and to register, go to:\n<a href="https:
 //www.arcus.org/civicrm/mailing/url?u=25216&amp;qid=4311781" rel="nofollow"
 >ARCUS Arctic Research Seminar Series webpage</a>\nFor questions, contact:\
 nStacey Stoudt\nEmail: This email address is being protected from spambots.
  You need JavaScript enabled to view it.
				document.getElementById('cloak
 9abcd71b10aca2ac173bd47188099644').innerHTML = '';
				var prefix = '&#109;
 a' + 'i&#108;' + '&#116;o';
				var path = 'hr' + 'ef' + '=';
				var addy9
 abcd71b10aca2ac173bd47188099644 = 'st&#97;c&#101;y' + '&#64;';
				addy9abc
 d71b10aca2ac173bd47188099644 = addy9abcd71b10aca2ac173bd47188099644 + '&#97
 ;rc&#117;s' + '&#46;' + '&#111;rg';
				var addy_text9abcd71b10aca2ac173bd4
 7188099644 = 'st&#97;c&#101;y' + '&#64;' + '&#97;rc&#117;s' + '&#46;' + '&#
 111;rg';document.getElementById('cloak9abcd71b10aca2ac173bd47188099644').in
 nerHTML += '<a ' + path + '\'' + prefix + ':' + addy9abcd71b10aca2ac173bd47
 188099644 + '\'>'+addy_text9abcd71b10aca2ac173bd47188099644+'';
		\n
X-ALT-DESC;FMTTYPE=text/html:<p><strong><em>Bridging Arts and Science</em></strong><br />Arctic Research
  Seminar Series<br />Arctic Research Consortium of the U.S.</p><p><strong>D
 ate/time:</strong>&nbsp;Monday, 21 September 2020, 8:00 a.m. AKDT (12:00 p.
 m. EDT)<br /><strong>Title:</strong>&nbsp;<em>Bridging Arts and Science</em
 ><br /><strong>Presenters:</strong>&nbsp;Matthew Burtner (University of Vir
 ginia), Leena Cho (University of Virginia), and Gabrielle Russomagno (Schoo
 l of Visual Arts)</p><p>&nbsp;</p><p>The Arctic Research Consortium of the 
 U.S. (<a href="https://www.arcus.org/civicrm/mailing/url?u=25218&amp;qid=43
 11781" rel="nofollow">ARCUS</a>) invites registration for the next Arctic R
 esearch Seminar. This seminar, titled&nbsp;<em>Bridging Arts and Science</e
 m>, will take place Monday, 21 September 2020 at 8:00 a.m. AKDT (12:00 p.m.
  EDT).</p><p>This seminar will be presented by Matthew Burtner (University 
 of Virginia), Leena Cho (University of Virginia), and Gabrielle Russomagno 
 (School of Visual Arts). During this webinar presenters will discuss how th
 eir work spans science and the arts through media such as music, landscape 
 architecture, and the visual arts.</p><p><a href="https://www.arcus.org/civ
 icrm/mailing/url?u=25219&amp;qid=4311781" rel="nofollow">Matthew Burtner</a
 >&nbsp;is an Alaskan-born composer, eco-acoustician, and sound artist. He i
 s the Eleanor Shea Chaired Professor of Music at the University of Virginia
  where he Co-Directs the&nbsp;<a href="https://www.arcus.org/civicrm/mailin
 g/url?u=25220&amp;qid=4311781" rel="nofollow">Coastal Futures Conservatory<
 /a>. He also Directs the non-profit organization EcoSono. A 2020 Emmy Award
  recipient, his ecoacoustic music has been featured by NASA, the BBC, the O
 bama U.S. State Department, NPR NewsHour, the Humanities Center at the Univ
 ersity of Michigan, the American Geophysical Union (AGU), and in concerts a
 nd exhibitions around the world.</p><p>Matthew will share how he uses sound
  as a medium between music and science in Arctic coastal ecosystems. Ecoaco
 ustic music utilizes sonification, field recording, and environmental mater
 ials to imbed natural systems into music. He will discuss the methodology a
 nd show examples of these techniques in his work.</p><p><a href="https://ww
 w.arcus.org/civicrm/mailing/url?u=25222&amp;qid=4311781" rel="nofollow">Lee
 na Cho</a>&nbsp;is an Assistant Professor in Landscape Architecture and Co-
 Director of Arctic Design Group at the University of Virginia School of Arc
 hitecture. Her research examines the design of Arctic landscapes and cities
 , including emerging forms of landscape and landscape-making in the era of 
 new climatic regimes. In particular, her work positions the uniquely dynami
 c Arctic landscape material systems as a critical foundation for vibrant so
 cioecological and design expressions, while paying close attention to mater
 ial meanings and design methods developed in specific historical contexts i
 n the Arctic.</p><p>By merging the study of environmental humanities, and s
 cience and technology studies with landscape architecture, Leena highlights
  the Arctic ground’s vibrant materialities as a conceptual and physical bas
 is for design, while delineating potential areas of landscape design resear
 ch and collaboration to further examine design potentials unique to the Arc
 tic’s built environment. Permafrost ground is one of the defining landscape
  elements in the Arctic, and is a foundation for dynamic socioecological an
 d cultural expressions in Arctic cities.</p><p><a href="https://www.arcus.o
 rg/civicrm/mailing/url?u=25223&amp;qid=4311781" rel="nofollow">Gabrielle Ru
 ssomagno</a>&nbsp;received her Master of Fine Arts in photography from Yale
  University. She is a photographer and installation artist based in Philade
 lphia and New York. Exhibiting internationally since 1985 her artwork is in
 cluded in many permanent collections including University of Pennsylvania H
 ospital, Smith College, University of New Mexico Museum of Art, Yale Univer
 sity Beinecke Library, the Bibliotheque Nationale in Paris, and the Museum 
 of Modern Art in New York. She is on the Bachelor of Fine Arts Photography 
 faculty at the School of Visual Arts in New York.</p><p>Gabrielle will disc
 uss&nbsp;<em>A Quick and Tragic Thaw</em>, a series of artworks that explor
 es the impact of a warming world using the Arctic region as the symbolic ap
 ex. Through the study of scholarly research and data, use of mapping techno
 logy, and satellite imagery, as well as essays, poems, photographs, and ill
 ustrations, these artworks interpret the more recent story of human influen
 ced climate change. More broadly, this urgent narration recognizes migratio
 n movements of biological forms, toxins, and water and is meant to be a med
 itation on loss and the fragility of the planet.</p><p>For more information
  and to register, go to:<br /><a href="https://www.arcus.org/civicrm/mailin
 g/url?u=25216&amp;qid=4311781" rel="nofollow">ARCUS Arctic Research Seminar
  Series webpage</a></p><p>For questions, contact:<br />Stacey Stoudt<br />E
 mail:&nbsp;<a href="https://www.arcus.org/civicrm/mailing/url?u=25217&amp;q
 id=4311781" rel="nofollow"></a><span id="cloak9abcd71b10aca2ac173bd47188099
 644">This email address is being protected from spambots. You need JavaScri
 pt enabled to view it.</span><script type='text/javascript'>
				document.g
 etElementById('cloak9abcd71b10aca2ac173bd47188099644').innerHTML = '';
				
 var prefix = '&#109;a' + 'i&#108;' + '&#116;o';
				var path = 'hr' + 'ef' 
 + '=';
				var addy9abcd71b10aca2ac173bd47188099644 = 'st&#97;c&#101;y' + '
 &#64;';
				addy9abcd71b10aca2ac173bd47188099644 = addy9abcd71b10aca2ac173b
 d47188099644 + '&#97;rc&#117;s' + '&#46;' + '&#111;rg';
				var addy_text9a
 bcd71b10aca2ac173bd47188099644 = 'st&#97;c&#101;y' + '&#64;' + '&#97;rc&#11
 7;s' + '&#46;' + '&#111;rg';document.getElementById('cloak9abcd71b10aca2ac1
 73bd47188099644').innerHTML += '<a ' + path + '\'' + prefix + ':' + addy9ab
 cd71b10aca2ac173bd47188099644 + '\'>'+addy_text9abcd71b10aca2ac173bd4718809
 9644+'<\/a>';
		</script></p>
DTSTAMP:20260419T150714Z
DTSTART;TZID=UTC:20200921T080000
DTEND;TZID=UTC:20200921T120000
SEQUENCE:0
TRANSP:OPAQUE
END:VEVENT
END:VCALENDAR