BEGIN:VCALENDAR
VERSION:2.0
PRODID:-//jEvents 2.0 for Joomla//EN
CALSCALE:GREGORIAN
METHOD:PUBLISH
BEGIN:VEVENT
UID:beb385f02b95a45b937875c2da5cf595
CATEGORIES:Polar Conferences, Meetings and Events
CREATED:20200914T151207
SUMMARY:Northern political economy symposium 2020
LOCATION:Online
DESCRIPTION:<p><strong>Excavating sites of power in the Arctic<br />October 27-28, 2020
 <br />Rovaniemi, University of Lapland, Finland</strong></p><p><strong>Dead
 line for abstract submissions is 20 September 2020</strong><br />&nbsp;<br 
 />Where/when does power – be it political, economic, historical, etc – come
  into play in the Arctic? The theme of the 2020 Northern political economy 
 symposium is “Excavating sites of power in the Arctic”. We welcome presenta
 tions that delve into power in its different, and potentially disguised/hid
 den/subdued, forms and manifestations. The presentations can discuss the ex
 ercise of power by different human and non-human agencies and analyze its d
 ifferent consequences, for example, for the region’s population, developmen
 t and governance. Critical perspectives on power in Arctic studies are impo
 rtant to challenge current metanarratives of the Arctic as, for example, a 
 resource region or a stage for (non)human resilience in the face of climate
  change. These depictions dominate public perceptions of the Arctic and exp
 ectations of its development. The aim of the symposium is to advance critic
 al perspectives on the meaning and means of power in Arctic studies by chal
 lenging conventional positions and mainstream approaches to knowledge as we
 ll as to explore alternative ways of understanding the Arctic, its history 
 and future development.<br />&nbsp;<br /><strong>Keynote speaker</strong><b
 r />&nbsp;<br />Our keynote speaker is&nbsp;professor Julian Reid. He&nbsp;
 is Chair and Professor of International Relations at the University of Lapl
 and. He taught previously at King’s&nbsp;College London, SOAS, and the Univ
 ersity of Sussex. His latest book is Becoming Indigenous: Governing Imagina
 ries in the Anthropocene (coauthored with David Chandler) (Rowman &amp; Lit
 tlefield, London, 2019).&nbsp;<br />&nbsp;<br />The title of his key note l
 ecture is&nbsp;“<strong>Arctic Biopolitics”</strong><br />&nbsp;<br />This 
 lecture will provide a critical assessment of the potentials of the concept
  of biopolitics for the theorization of power in the Arctic. In particular 
 the lecture will focus on the question of the governance of migration withi
 n the Arctic. Migration of populations is an issue of fundamental interest 
 to biopolitical regimes of power, and has been since their inception in the
  early modern era. It has also always been closely related to issues of cli
 mate and concerns especially over the implications of climate migrations fo
 r the stability of populations, both human and non-human. The lecture will 
 provide an overview of the different ways migration of human and non-human 
 populations is interpreted today, as threats to the stability of the Arctic
  region, as well as threats to the survivability of migratory populations t
 hemselves. We will consider the different policy regimes which arise from t
 hese interpretations. In particular the lecture will focus on the contempor
 ary debate over the climate migration of polar bears in Arctic Canada and p
 rovide an account of the biopolitics of conflict between the Canadian state
  and its indigenous populations; a conflict which has arisen from their dif
 ferent interpretations of the climate migration of polar bears. As we will 
 see, analysing this conflict through the lens of the concept of biopolitics
  provides a very different slant on the issues involved than has hitherto b
 een achieved to date in Arctic research.<br />&nbsp;<br /><strong>Deadline 
 for proposals</strong><br />&nbsp;<br />Please send your abstract (max. 250
 -words) with your name, title, affiliation and contact information before<s
 trong>&nbsp;September 20, 2020&nbsp;</strong>by email to Monica Tennberg (<
 a href="mailto:monica.tennberg@ulapland.fi"></a><span id="cloak5aa981da8d08
 214d41e3d88cb99f4d11">This email address is being protected from spambots. 
 You need JavaScript enabled to view it.</span><script type='text/javascript
 '>
				document.getElementById('cloak5aa981da8d08214d41e3d88cb99f4d11').inn
 erHTML = '';
				var prefix = '&#109;a' + 'i&#108;' + '&#116;o';
				var pa
 th = 'hr' + 'ef' + '=';
				var addy5aa981da8d08214d41e3d88cb99f4d11 = 'm&#
 111;n&#105;c&#97;.t&#101;nnb&#101;rg' + '&#64;';
				addy5aa981da8d08214d41
 e3d88cb99f4d11 = addy5aa981da8d08214d41e3d88cb99f4d11 + '&#117;l&#97;pl&#97
 ;nd' + '&#46;' + 'f&#105;';
				var addy_text5aa981da8d08214d41e3d88cb99f4d
 11 = 'm&#111;n&#105;c&#97;.t&#101;nnb&#101;rg' + '&#64;' + '&#117;l&#97;pl&
 #97;nd' + '&#46;' + 'f&#105;';document.getElementById('cloak5aa981da8d08214
 d41e3d88cb99f4d11').innerHTML += '<a ' + path + '\'' + prefix + ':' + addy5
 aa981da8d08214d41e3d88cb99f4d11 + '\'>'+addy_text5aa981da8d08214d41e3d88cb9
 9f4d11+'<\/a>';
		</script>).<br />&nbsp;<br /><strong>Programme</strong><b
 r />&nbsp;<br />In addition to the key note lecture, the programme will inc
 lude presentations by the participants and time allocated for discussions. 
 The symposium will be held this year online due to the COVID-19 pandemic.&n
 bsp;<span style="text-decoration: underline;">The link to present and parti
 cipate to the event will be send to the registered participants by October 
 23, 2020.</span>&nbsp;We will adjust our working practices to suit online p
 articipation with shorter presentations and longer breaks.<br />&nbsp;<br /
 >The accepted abstracts and the programme will be announced by October 1, 2
 020.<br />&nbsp;<br /><strong>Deadline for registration</strong><br />&nbsp
 ;<br />If you prefer to participate to the symposium without presenting a p
 aper, please register your participation before October 15, 2020. by sendin
 g an email to Monica Tennberg (<a href="mailto:monica.tennberg@ulapland.fI"
 ></a><span id="cloak15111c4f2e2b1ff5b3a58315fa3c13b3">This email address is
  being protected from spambots. You need JavaScript enabled to view it.</sp
 an><script type='text/javascript'>
				document.getElementById('cloak15111c
 4f2e2b1ff5b3a58315fa3c13b3').innerHTML = '';
				var prefix = '&#109;a' + '
 i&#108;' + '&#116;o';
				var path = 'hr' + 'ef' + '=';
				var addy15111c4
 f2e2b1ff5b3a58315fa3c13b3 = 'm&#111;n&#105;c&#97;.t&#101;nnb&#101;rg' + '&#
 64;';
				addy15111c4f2e2b1ff5b3a58315fa3c13b3 = addy15111c4f2e2b1ff5b3a583
 15fa3c13b3 + '&#117;l&#97;pl&#97;nd' + '&#46;' + 'fI';
				var addy_text151
 11c4f2e2b1ff5b3a58315fa3c13b3 = 'm&#111;n&#105;c&#97;.t&#101;nnb&#101;rg' +
  '&#64;' + '&#117;l&#97;pl&#97;nd' + '&#46;' + 'fI';document.getElementById
 ('cloak15111c4f2e2b1ff5b3a58315fa3c13b3').innerHTML += '<a ' + path + '\'' 
 + prefix + ':' + addy15111c4f2e2b1ff5b3a58315fa3c13b3 + '\'>'+addy_text1511
 1c4f2e2b1ff5b3a58315fa3c13b3+'<\/a>';
		</script>).<br />&nbsp;<br />More i
 nformation<br />&nbsp;<br />Symposium organizer, research professor Monica 
 Tennberg, research professor, Northern political economy research group, Ar
 ctic Centre, University of Lapland (<a href="mailto:monica.tennberg@ulaplan
 d.fi"></a><span id="cloakae324d12299703e7e7115485d713091d">This email addre
 ss is being protected from spambots. You need JavaScript enabled to view it
 .</span><script type='text/javascript'>
				document.getElementById('cloaka
 e324d12299703e7e7115485d713091d').innerHTML = '';
				var prefix = '&#109;a
 ' + 'i&#108;' + '&#116;o';
				var path = 'hr' + 'ef' + '=';
				var addyae
 324d12299703e7e7115485d713091d = 'm&#111;n&#105;c&#97;.t&#101;nnb&#101;rg' 
 + '&#64;';
				addyae324d12299703e7e7115485d713091d = addyae324d12299703e7e
 7115485d713091d + '&#117;l&#97;pl&#97;nd' + '&#46;' + 'f&#105;';
				var ad
 dy_textae324d12299703e7e7115485d713091d = 'm&#111;n&#105;c&#97;.t&#101;nnb&
 #101;rg' + '&#64;' + '&#117;l&#97;pl&#97;nd' + '&#46;' + 'f&#105;';document
 .getElementById('cloakae324d12299703e7e7115485d713091d').innerHTML += '<a '
  + path + '\'' + prefix + ':' + addyae324d12299703e7e7115485d713091d + '\'>
 '+addy_textae324d12299703e7e7115485d713091d+'<\/a>';
		</script>).<br />&nb
 sp;<br />WELCOME!</p>
DTSTAMP:20260419T175824Z
DTSTART;TZID=UTC;VALUE=DATE:20201027
DTEND;TZID=UTC;VALUE=DATE:20201029
SEQUENCE:0
TRANSP:OPAQUE
END:VEVENT
END:VCALENDAR