BEGIN:VCALENDAR
VERSION:2.0
PRODID:-//jEvents 2.0 for Joomla//EN
CALSCALE:GREGORIAN
METHOD:PUBLISH
BEGIN:VEVENT
UID:1058145b8f59c538fe4896c2a47620b4
CATEGORIES:Polar Online Events
CREATED:20200929T115756
SUMMARY:Polar Geospatial Center (PGC) Seminar Series
LOCATION:Online
DESCRIPTION:Polar Geospatial Center (PGC) Seminar Series #4: Andrew Fleming at the Brit
 ish Antarctic Survey will be presenting "Ships in ice – Keeping Antarctic m
 ariners up to date."DATE: Oct 14 10-11AM Central\nREGISTRATION:  (https://u
 mn.zoom.us/webinar/register/WN_eRY7f8RVS1aeSY3ZB7m0Jw)<a href="https://umn.
 zoom.us/webinar/register/WN_eRY7f8RVS1aeSY3ZB7m0Jw">https://umn.zoom.us/web
 inar/register/WN_eRY7f8RVS1aeSY3ZB7m0Jw</a>\n
X-ALT-DESC;FMTTYPE=text/html:<div>Polar Geospatial Center (PGC) Seminar Series #4: <strong>Andrew Flemin
 g</strong>&nbsp;at the British Antarctic Survey will be presenting "Ships i
 n ice – Keeping Antarctic mariners up to date."</div><p>DATE: Oct 14 10-11A
 M Central<br />REGISTRATION:&nbsp;<a href="https://umn.zoom.us/webinar/regi
 ster/WN_eRY7f8RVS1aeSY3ZB7m0Jw" target="_blank" rel="noopener"></a><a href=
 "https://umn.zoom.us/webinar/register/WN_eRY7f8RVS1aeSY3ZB7m0Jw">https://um
 n.zoom.us/webinar/register/WN_eRY7f8RVS1aeSY3ZB7m0Jw</a></p>
DTSTAMP:20260419T201023Z
DTSTART;TZID=UTC;VALUE=DATE:20201014
DTEND;TZID=UTC;VALUE=DATE:20201015
SEQUENCE:0
TRANSP:OPAQUE
END:VEVENT
END:VCALENDAR