BEGIN:VCALENDAR
VERSION:2.0
PRODID:-//jEvents 2.0 for Joomla//EN
CALSCALE:GREGORIAN
METHOD:PUBLISH
BEGIN:VEVENT
UID:cbfa0088d0338adc582fd3ac083d0678
CATEGORIES:Polar Online Events
CREATED:19700101T000000
SUMMARY:Distinguished Lecture Series - Fall 2020
LOCATION:Online
DESCRIPTION:On behalf of the Global Institute for Water Security (University of Saskatc
 hewan) and the Global Water Futures program, we invite you to join us for o
 ur 2020 Distinguished Lecture Series!\nThis lecture series runs weekly thro
 ughout Fall 2020 and features top water experts from around the world. The 
 lectures are free and open to all, and held on Wednesdays at 10 am CST (UTC
 -6) in a virtual format. You can view the full 2020 schedule (including reg
 istration links) here:  (https://water.usask.ca/dls)<a href="https://water.
 usask.ca/dls">https://water.usask.ca/dls</a>\n
X-ALT-DESC;FMTTYPE=text/html:<p>On behalf of the Global Institute for Water Security (University of Sask
 atchewan) and the Global Water Futures program, we invite you to join us fo
 r our 2020 Distinguished Lecture Series!</p><p>This lecture series runs wee
 kly throughout Fall 2020 and features top water experts from around the wor
 ld. The lectures are free and open to all, and held on Wednesdays at 10 am 
 CST (UTC-6) in a virtual format. You can view the full 2020 schedule (inclu
 ding registration links) here:&nbsp;<a href="https://water.usask.ca/dls"></
 a><a href="https://water.usask.ca/dls">https://water.usask.ca/dls</a></p>
DTSTAMP:20260419T175353Z
DTSTART;TZID=UTC;VALUE=DATE:20200930
DTEND;TZID=UTC;VALUE=DATE:20201001
SEQUENCE:0
RRULE:FREQ=WEEKLY;UNTIL=20201202T000000Z;INTERVAL=1;BYDAY=WE
TRANSP:OPAQUE
END:VEVENT
END:VCALENDAR