BEGIN:VCALENDAR
VERSION:2.0
PRODID:-//jEvents 2.0 for Joomla//EN
CALSCALE:GREGORIAN
METHOD:PUBLISH
BEGIN:VEVENT
UID:3043c9f90468dce326a0b0723ca4cc89
CATEGORIES:Polar Online Events
CREATED:20201019T074540
SUMMARY:European Polar Science Week
DESCRIPTION:The European Commission (Directorate General for Research and Innovation) a
 nd the European Space Agency are working together to improve cooperation an
 d to identify the grand science challenges in Polar research that may drive
  joint EC-ESA scientific activities in the coming years. The European Polar
  Science Week is one of the first results of this increased cooperation bet
 ween the two organisations. It will take place on-line October 26-30 2020. 
 The first two days will mainly be focused on presenting and discussing EU a
 nd ESA ongoing and planned joint projects and initiatives, including the ki
 ck-off of EU-PolarNet 2, the overarching European coordination project, the
  presentation of the EU Polar Cluster and the ESA Polar Science Cluster new
  projects. This will be followed by three-days dedicated to Polar science w
 ith focus on the grand science challenges and coming opportunities for ESA 
 and the EU to address together over the coming years. For more details and 
 registration, pls go to http://eo4polar.esa.int/ before October the 20th. \
 n
X-ALT-DESC;FMTTYPE=text/html:<p><span style="font-family: sans-serif; font-size: medium;">The European C
 ommission (Directorate General for Research and Innovation) and the Europea
 n Space Agency are working together to improve cooperation and to identify 
 the grand science challenges in Polar research that may drive joint EC-ESA 
 scientific activities in the coming years. The <strong>European Polar Scien
 ce Week</strong> is one of the first results of this increased cooperation 
 between the two organisations. It will take place on-line <strong>October 2
 6-30 2020. </strong>The first two days will mainly be focused on presenting
  and discussing EU and ESA ongoing and planned joint projects and initiativ
 es, including the kick-off of EU-PolarNet 2, the overarching European coord
 ination project, the presentation of the EU Polar Cluster and the ESA Polar
  Science Cluster new projects. This will be followed by three-days dedicate
 d to Polar science with focus on the grand science challenges and coming op
 portunities for ESA and the EU to address together over the coming years. <
 strong>For more details and registration, pls go to </strong></span><span s
 tyle="color: #0082bf; font-family: sans-serif; font-size: medium;"><strong>
 <span style="text-decoration: underline;"><a href="http://eo4polar.esa.int/
 ">http://eo4polar.esa.int/</a></span></strong></span><span style="font-fami
 ly: sans-serif; font-size: medium;"><strong> before October the 20<sup>th</
 sup>. </strong></span></p>
DTSTAMP:20260419T174655Z
DTSTART;TZID=UTC:20201026T080000
DTEND;TZID=UTC:20201030T170000
SEQUENCE:0
TRANSP:OPAQUE
END:VEVENT
END:VCALENDAR